BEGIN:VCALENDAR
VERSION:2.0
PRODID:-//hacksw/handcal//NONSGML v1.0//EN
BEGIN:VEVENT
SUMMARY:Indisponibilite du gymnase
UID:f965765a-cff0-4d0b-9d77-b18b2969b09b
DTSTART:20260430T220000Z
DTEND:20260502T220000Z
LOCATION:Localisation   
CATEGORIES:Entrainement
STATUS:
DESCRIPTION:<p>En raison du 1er mai, le gymnase sera ferme les
 vendredi 1er et samedi 2 mai.</p>
 
 <p>Il n'y aura pas d'entrainement
 ces jour-la</p>
URL;VALUE=URI:https://www.ctac92.com/evenements/2026/05/01/indisponibilite-du-gymnase-2432400
END:VEVENT
END:VCALENDAR
