BEGIN:VCALENDAR
VERSION:2.0
PRODID:-//hacksw/handcal//NONSGML v1.0//EN
BEGIN:VEVENT
SUMMARY:Decouverte tir parcours Chatenay-Malabry 2026
UID:3aca5ce5-c6db-4d9f-91fb-f8a60a0fe41b
DTSTART:20260425T220000Z
DTEND:20260426T220000Z
LOCATION:Localisation   
CATEGORIES:Sportif
STATUS:
DESCRIPTION:<p>Les archers de Chatenay-Malabry proposent une journee
 de decouverte des tirs de parcours (Campagne le matin et 3D
 l'apres-midi) le dimanche 26 avril.</p>
 
 <p>Cette decouverte
 s'adresse aux archers debutants de l'annee et ceux n'ayant jamais
 pratique les tirs de parcours.</p>
 
 <p>Vous pouvez participer au tir
 du matin ou celui de l'apres-midi ou aux 2 pour avoir une vision
 globale des tirs de parcours.</p>
URL;VALUE=URI:https://www.ctac92.com/evenements/2026/04/26/decouverte-tir-parcours-chatenay-malabry-2026-2432366
END:VEVENT
END:VCALENDAR
