BEGIN:VCALENDAR
VERSION:2.0
PRODID:-//hacksw/handcal//NONSGML v1.0//EN
BEGIN:VEVENT
SUMMARY:Indisponibilite du gymnase
UID:2f3dadc4-438f-487e-8536-a5baeb837389
DTSTART:20260424T220000Z
DTEND:20260425T220000Z
LOCATION:Localisation   
CATEGORIES:Sportif
STATUS:
DESCRIPTION:<p><s>En raison d'un tournoi de badminton, le gymnase
 sera indisponible le samedi 25 avril.</s></p>
 
 <p>Le tournoi de
 badminton etant annule, nous pourrons nous entrainer aux horaires
 habituels le samedi 25 avril</p>
URL;VALUE=URI:https://www.ctac92.com/evenements/2026/04/25/indisponibilite-du-gymnase-2431158
END:VEVENT
END:VCALENDAR
