BEGIN:VCALENDAR
VERSION:2.0
PRODID:-//hacksw/handcal//NONSGML v1.0//EN
BEGIN:VEVENT
SUMMARY:Tir du Roy
UID:42e92a15-2378-4e00-91aa-1b9c00125a3a
DTSTART:20260419T063000Z
DTEND:20260419T110000Z
LOCATION:Localisation   
CATEGORIES:Manifestation
STATUS:
DESCRIPTION:<p><span style="font-size:12pt;"><span><span
 style="font-family:Aptos, sans-serif;">Nous organiserons le tir du
 Roy le <b>dimanche 19 avril a partir de 8h30</b> (debut des tirs a
 9h00) sur le terrain de
 Fontenay-Aux-Roses.</span></span></span></p>
 
 <p><span
 style="font-size:12pt;"><span><span style="font-family:Aptos,
 sans-serif;">Le tir sera reserve aux adultes et aux jeunes ayant
 obtenu au moins la fleche rouge et en possession de leur materiel. Il
 se fera a la distance de 50
 metres.</span></span></span></p>
 
 <p><span
 style="font-size:12pt;"><span><span style="font-family:Aptos,
 sans-serif;">Pour la bonne organisation, merci de nous communiquer
 votre presence ou non par le formulaire
 joint.</span></span></span></p>
 
 <p><span
 style="font-size:12pt;"><span><span style="font-family:Aptos,
 sans-serif;">Pour les jeunes, le tir du Roitelet sera organise le
 vendredi 12 juin au gymnase.</span></span></span></p>
URL;VALUE=URI:https://www.ctac92.com/evenements/2026/04/19/tir-du-roy-2431722
END:VEVENT
END:VCALENDAR
