BEGIN:VCALENDAR
VERSION:2.0
PRODID:-//hacksw/handcal//NONSGML v1.0//EN
BEGIN:VEVENT
SUMMARY:Tir en ville
UID:acde1d35-13eb-4eb7-b38a-a0fdb92efc27
DTSTART:20260411T070000Z
DTEND:20260411T100000Z
LOCATION:Localisation   
CATEGORIES:Sportif
STATUS:
DESCRIPTION:<p>Nous vous proposons de vous initier aux techniques de
 parcours en participant a une version urbaine du tir de
 parcours.</p>
 
 <p>Pour des raisons de securite, merci d'etre ponctuel
 a cette seance. Les portes du gymnase seront fermees a
 9h20.</p>
 
 <p>Afin de faciliter l'organisation, merci de nous
 confirmer votre participation a cet evenement.</p>
URL;VALUE=URI:https://www.ctac92.com/evenements/2026/04/11/tir-en-ville-2431162
END:VEVENT
END:VCALENDAR
